BEGIN:VCALENDAR
VERSION:2.0
PRODID:-//Friends House - ECPv6.15.17.1//NONSGML v1.0//EN
CALSCALE:GREGORIAN
METHOD:PUBLISH
X-ORIGINAL-URL:https://friendshouse.com
X-WR-CALDESC:Events for Friends House
REFRESH-INTERVAL;VALUE=DURATION:PT1H
X-Robots-Tag:noindex
X-PUBLISHED-TTL:PT1H
BEGIN:VTIMEZONE
TZID:UTC
BEGIN:STANDARD
TZOFFSETFROM:+0000
TZOFFSETTO:+0000
TZNAME:UTC
DTSTART:20220101T000000
END:STANDARD
END:VTIMEZONE
BEGIN:VEVENT
DTSTART;TZID=UTC:20231007T100000
DTEND;TZID=UTC:20231007T140000
DTSTAMP:20260419T120440
CREATED:20230920T111533Z
LAST-MODIFIED:20230920T111533Z
UID:10252-1696672800-1696687200@friendshouse.com
SUMMARY:Elephant Shop Clearance Sale
DESCRIPTION:Join us on Saturday for an unforgettable shopping experience! \n🛍️ Discover Amazing Deals:\n👗 All Clothing: Upgrade your wardrobe with a steal – everything is priced at just $1.00 each!\n🎁 Collectibles: Unique treasures and hidden gems are now half off their regular prices.\n🪑 Furniture: Spruce up your space with quality furniture pieces\, all at a remarkable 50% discount.\n💡 Lamps and Pictures: Brighten up your home with lamps and adorn your walls with pictures\, all for just $5.00 each! \nDon’t miss this exclusive opportunity to shop for a cause\, with all proceeds supporting Friends House Senior Association. Grab your friends and come early to snag the best finds!
URL:https://friendshouse.com/event/elephant-shop-clearance-sale/
LOCATION:Friends House\, United States
END:VEVENT
BEGIN:VEVENT
DTSTART;TZID=UTC:20231016T080000
DTEND;TZID=UTC:20231030T170000
DTSTAMP:20260419T120440
CREATED:20231019T135759Z
LAST-MODIFIED:20231019T135759Z
UID:10525-1697443200-1698685200@friendshouse.com
SUMMARY:Showcase of Workshop Paintings and Pottery
DESCRIPTION:THE COLORS OF MUSIC \nThe Art of Pottery \nStabler and Haviland Halls \nFlower Alley
URL:https://friendshouse.com/event/showcase-of-workshop-paintings-and-pottery/
LOCATION:MD
END:VEVENT
BEGIN:VEVENT
DTSTART;TZID=UTC:20231030T100000
DTEND;TZID=UTC:20231030T130000
DTSTAMP:20260419T120440
CREATED:20231026T103710Z
LAST-MODIFIED:20231026T103841Z
UID:10528-1698660000-1698670800@friendshouse.com
SUMMARY:Job Fair at Montgomery College
DESCRIPTION:Join Friends House at our Job Fair! \nSeeking CNAs and GNAs \nGet ready for on-site interviews! Your next career opportunity awaits. \nDon’t miss out on the chance to be a part of our caring and compassionate team. We can’t wait to meet you!
URL:https://friendshouse.com/event/job-fair-at-montgomery-college/
LOCATION:MD
CATEGORIES:Hiring Event
END:VEVENT
END:VCALENDAR